BEGIN:VCALENDAR
VERSION:2.0
PRODID:-//Harmonie SPDC BigBand - ECPv6.14.2//NONSGML v1.0//EN
CALSCALE:GREGORIAN
METHOD:PUBLISH
X-ORIGINAL-URL:https://harmoniespdcbigband.fr
X-WR-CALDESC:Évènements pour Harmonie SPDC BigBand
REFRESH-INTERVAL;VALUE=DURATION:PT1H
X-Robots-Tag:noindex
X-PUBLISHED-TTL:PT1H
BEGIN:VTIMEZONE
TZID:UTC
BEGIN:STANDARD
TZOFFSETFROM:+0000
TZOFFSETTO:+0000
TZNAME:UTC
DTSTART:20240101T000000
END:STANDARD
END:VTIMEZONE
BEGIN:VEVENT
DTSTART;TZID=UTC:20240921T080000
DTEND;TZID=UTC:20240921T170000
DTSTAMP:20260423T174205
CREATED:20240921T191647Z
LAST-MODIFIED:20240921T191647Z
UID:114-1726905600-1726938000@harmoniespdcbigband.fr
SUMMARY:Demo
DESCRIPTION:
URL:https://harmoniespdcbigband.fr/event/demo/
END:VEVENT
END:VCALENDAR