BEGIN:VCALENDAR
VERSION:2.0
PRODID:-//Harmonie SPDC BigBand - ECPv6.14.2//NONSGML v1.0//EN
CALSCALE:GREGORIAN
METHOD:PUBLISH
X-ORIGINAL-URL:https://harmoniespdcbigband.fr
X-WR-CALDESC:Évènements pour Harmonie SPDC BigBand
REFRESH-INTERVAL;VALUE=DURATION:PT1H
X-Robots-Tag:noindex
X-PUBLISHED-TTL:PT1H
BEGIN:VTIMEZONE
TZID:UTC
BEGIN:STANDARD
TZOFFSETFROM:+0000
TZOFFSETTO:+0000
TZNAME:UTC
DTSTART:20250101T000000
END:STANDARD
END:VTIMEZONE
BEGIN:VEVENT
DTSTART;TZID=UTC:20250109T190000
DTEND;TZID=UTC:20250109T203000
DTSTAMP:20260423T125737
CREATED:20250104T151215Z
LAST-MODIFIED:20250313T112314Z
UID:137-1736449200-1736454600@harmoniespdcbigband.fr
SUMMARY:Vœux du maire 2025
DESCRIPTION:  \nLes musiciens de l’Harmonie sont heureux de vous retrouver pour les traditionnels vœux du maire à la salle des fêtes le 09 Janvier à 19h00. \nQuelques morceaux animeront le début de soirée. \nAu plaisir de vous retrouver lors de cet événement.
URL:https://harmoniespdcbigband.fr/event/voeux-du-maire-2025/
LOCATION:salle des fêtes\, 40 Avenue de la République\, Saint Pierre des Corps\, 37700\, France
END:VEVENT
END:VCALENDAR