BEGIN:VCALENDAR
VERSION:2.0
PRODID:-//Harmonie SPDC BigBand - ECPv6.14.2//NONSGML v1.0//EN
CALSCALE:GREGORIAN
METHOD:PUBLISH
X-ORIGINAL-URL:https://harmoniespdcbigband.fr
X-WR-CALDESC:Évènements pour Harmonie SPDC BigBand
REFRESH-INTERVAL;VALUE=DURATION:PT1H
X-Robots-Tag:noindex
X-PUBLISHED-TTL:PT1H
BEGIN:VTIMEZONE
TZID:UTC
BEGIN:STANDARD
TZOFFSETFROM:+0000
TZOFFSETTO:+0000
TZNAME:UTC
DTSTART:20250101T000000
END:STANDARD
END:VTIMEZONE
BEGIN:VEVENT
DTSTART;TZID=UTC:20250405T193000
DTEND;TZID=UTC:20250405T230000
DTSTAMP:20260423T091259
CREATED:20250313T113324Z
LAST-MODIFIED:20250318T075731Z
UID:171-1743881400-1743894000@harmoniespdcbigband.fr
SUMMARY:Soirée cabaret jazz
DESCRIPTION:     \nVoici revenu le moment de notre soirée annuelle « Cabaret jazz »! \nCette année nous avons le plaisir d’accueillir le Souq’ Jazz Machine. \nVos places sont d’ores et déjà disponibles à la réservation au 06 30 97 93 12. Ne tardez pas à réserver!
URL:https://harmoniespdcbigband.fr/event/soiree-cabaret-jazz/
LOCATION:salle des fêtes\, 40 Avenue de la République\, Saint Pierre des Corps\, 37700\, France
END:VEVENT
END:VCALENDAR