BEGIN:VCALENDAR
VERSION:2.0
PRODID:-//Harmonie SPDC BigBand - ECPv6.14.2//NONSGML v1.0//EN
CALSCALE:GREGORIAN
METHOD:PUBLISH
X-WR-CALNAME:Harmonie SPDC BigBand
X-ORIGINAL-URL:https://harmoniespdcbigband.fr
X-WR-CALDESC:Évènements pour Harmonie SPDC BigBand
REFRESH-INTERVAL;VALUE=DURATION:PT1H
X-Robots-Tag:noindex
X-PUBLISHED-TTL:PT1H
BEGIN:VTIMEZONE
TZID:UTC
BEGIN:STANDARD
TZOFFSETFROM:+0000
TZOFFSETTO:+0000
TZNAME:UTC
DTSTART:20250101T000000
END:STANDARD
END:VTIMEZONE
BEGIN:VEVENT
DTSTART;TZID=UTC:20250517T200000
DTEND;TZID=UTC:20250517T230000
DTSTAMP:20260423T061235
CREATED:20250515T071105Z
LAST-MODIFIED:20250515T095237Z
UID:193-1747512000-1747522800@harmoniespdcbigband.fr
SUMMARY:Concert Samedi 17 mai
DESCRIPTION:  \n  \n 
URL:https://harmoniespdcbigband.fr/event/concert-samedi-17-mai/
LOCATION:salle des fêtes\, 40 Avenue de la République\, Saint Pierre des Corps\, 37700\, France
END:VEVENT
END:VCALENDAR